BEGIN:VCALENDAR
VERSION:2.0
CALSCALE:GREGORIAN
BEGIN:VEVENT
UID:2895ce88d744e9948e0d6c6e22f1c0b3
DTSTAMP:20260420T010311Z
LOCATION:Kansas City\, MO
DESCRIPTION:
SUMMARY:Petfood Forum
DTSTART;TZID=America/Chicago:20260427
DTEND;TZID=America/Chicago:20260430
URL;VALUE=URI:
END:VEVENT
END:VCALENDAR