BEGIN:VCALENDAR
VERSION:2.0
CALSCALE:GREGORIAN
BEGIN:VEVENT
UID:363400fa3e504280784cb75fd0f6a8f0
DTSTAMP:20260423T121810Z
LOCATION:Lubbock\, TX
DESCRIPTION:
SUMMARY:Memorial Day-Office Closed
DTSTART;TZID=America/Chicago:20260525T000000
DTEND;TZID=America/Chicago:20260525T235900
URL;VALUE=URI:
END:VEVENT
END:VCALENDAR